BEGIN:VCALENDAR
VERSION:2.0
PRODID:-//Facilities Management Office - ECPv5.16.2//NONSGML v1.0//EN
CALSCALE:GREGORIAN
METHOD:PUBLISH
X-WR-CALNAME:Facilities Management Office
X-ORIGINAL-URL:https://fmo.hksyu.edu
X-WR-CALDESC:Events for Facilities Management Office
REFRESH-INTERVAL;VALUE=DURATION:PT1H
X-Robots-Tag:noindex
X-PUBLISHED-TTL:PT1H
BEGIN:VTIMEZONE
TZID:UTC
BEGIN:STANDARD
TZOFFSETFROM:+0000
TZOFFSETTO:+0000
TZNAME:UTC
DTSTART:20230101T000000
END:STANDARD
END:VTIMEZONE
BEGIN:VEVENT
DTSTART;VALUE=DATE:20230415
DTEND;VALUE=DATE:20230416
DTSTAMP:20260424T122227
CREATED:20230403T041926Z
LAST-MODIFIED:20230403T041926Z
UID:1536-1681516800-1681603199@fmo.hksyu.edu
SUMMARY:Temporary Suspension of Fresh Water Supply by Water Supply Department
DESCRIPTION:temporary suspension of fresh water supply
URL:https://fmo.hksyu.edu/event/temporary-suspension-of-fresh-water-supply-by-water-supply-department/
ATTACH;FMTTYPE=application/pdf:https://fmo.hksyu.edu/wp-content/uploads/2023/04/temporary-suspension-of-fresh-water-supply-1.pdf
END:VEVENT
END:VCALENDAR